BEGIN:VCALENDAR
VERSION:2.0
PRODID:-//Research And Engagement - ECPv6.15.20//NONSGML v1.0//EN
CALSCALE:GREGORIAN
METHOD:PUBLISH
X-WR-CALNAME:Research And Engagement
X-ORIGINAL-URL:https://research.uncg.edu
X-WR-CALDESC:Events for Research And Engagement
REFRESH-INTERVAL;VALUE=DURATION:PT1H
X-Robots-Tag:noindex
X-PUBLISHED-TTL:PT1H
BEGIN:VTIMEZONE
TZID:America/New_York
BEGIN:DAYLIGHT
TZOFFSETFROM:-0500
TZOFFSETTO:-0400
TZNAME:EDT
DTSTART:20220313T070000
END:DAYLIGHT
BEGIN:STANDARD
TZOFFSETFROM:-0400
TZOFFSETTO:-0500
TZNAME:EST
DTSTART:20221106T060000
END:STANDARD
BEGIN:DAYLIGHT
TZOFFSETFROM:-0500
TZOFFSETTO:-0400
TZNAME:EDT
DTSTART:20230312T070000
END:DAYLIGHT
BEGIN:STANDARD
TZOFFSETFROM:-0400
TZOFFSETTO:-0500
TZNAME:EST
DTSTART:20231105T060000
END:STANDARD
BEGIN:DAYLIGHT
TZOFFSETFROM:-0500
TZOFFSETTO:-0400
TZNAME:EDT
DTSTART:20240310T070000
END:DAYLIGHT
BEGIN:STANDARD
TZOFFSETFROM:-0400
TZOFFSETTO:-0500
TZNAME:EST
DTSTART:20241103T060000
END:STANDARD
END:VTIMEZONE
BEGIN:VEVENT
DTSTART;TZID=America/New_York:20230118T110000
DTEND;TZID=America/New_York:20230118T123000
DTSTAMP:20260421T164049
CREATED:20230111T172815Z
LAST-MODIFIED:20230117T174640Z
UID:10000007-1674039600-1674045000@research.uncg.edu
SUMMARY:Internal Research Awards Workshop 1 (zoom)
DESCRIPTION:This workshop covers what you need to know to successfully apply to the Spring 2023 Internal Research Awards Program (Formerly Faculty First Awards). You may apply to the Spring 2023 Internal Research Awards Program from December 15\, 2022 through February 6\, 2023 at 5pm. For more information\, guidelines\, and forms\, go to https://research.uncg.edu/internal-grants-and-awards/. \nPlease RSVP to attend: https://workshops.uncg.edu/event/internal-research-awards-workshop-1/
URL:https://research.uncg.edu/event/internal-research-awards-workshop-1-zoom/
LOCATION:North Carolina
END:VEVENT
END:VCALENDAR