BEGIN:VCALENDAR
VERSION:2.0
PRODID:-//Research And Engagement - ECPv6.15.20//NONSGML v1.0//EN
CALSCALE:GREGORIAN
METHOD:PUBLISH
X-WR-CALNAME:Research And Engagement
X-ORIGINAL-URL:https://research.uncg.edu
X-WR-CALDESC:Events for Research And Engagement
REFRESH-INTERVAL;VALUE=DURATION:PT1H
X-Robots-Tag:noindex
X-PUBLISHED-TTL:PT1H
BEGIN:VTIMEZONE
TZID:America/New_York
BEGIN:DAYLIGHT
TZOFFSETFROM:-0500
TZOFFSETTO:-0400
TZNAME:EDT
DTSTART:20220313T070000
END:DAYLIGHT
BEGIN:STANDARD
TZOFFSETFROM:-0400
TZOFFSETTO:-0500
TZNAME:EST
DTSTART:20221106T060000
END:STANDARD
BEGIN:DAYLIGHT
TZOFFSETFROM:-0500
TZOFFSETTO:-0400
TZNAME:EDT
DTSTART:20230312T070000
END:DAYLIGHT
BEGIN:STANDARD
TZOFFSETFROM:-0400
TZOFFSETTO:-0500
TZNAME:EST
DTSTART:20231105T060000
END:STANDARD
BEGIN:DAYLIGHT
TZOFFSETFROM:-0500
TZOFFSETTO:-0400
TZNAME:EDT
DTSTART:20240310T070000
END:DAYLIGHT
BEGIN:STANDARD
TZOFFSETFROM:-0400
TZOFFSETTO:-0500
TZNAME:EST
DTSTART:20241103T060000
END:STANDARD
END:VTIMEZONE
BEGIN:VEVENT
DTSTART;TZID=America/New_York:20230126T183000
DTEND;TZID=America/New_York:20230126T203000
DTSTAMP:20260421T164045
CREATED:20230126T174740Z
LAST-MODIFIED:20230126T174742Z
UID:10000040-1674757800-1674765000@research.uncg.edu
SUMMARY:HNAC:  "Dreams of Chonta" Screening
DESCRIPTION:“Dreams of Chonta” ScreeningWhen: Thursday\, January 26thTime: 6:30pmLocation: SOEB 114 \nThere will be refreshments\, and Assistant Professor of Musicology\, Daniel Castro Pantoja\, will be leading the discussion of the film which follows the experiences of an Afro-Colombian musician who emigrated to the United States in pursuit of his dream of success in the music industry.  
URL:https://research.uncg.edu/event/hnac-dreams-of-chonta-screening/
LOCATION:North Carolina
END:VEVENT
END:VCALENDAR