BEGIN:VCALENDAR
VERSION:2.0
PRODID:-//Research And Engagement - ECPv6.15.20//NONSGML v1.0//EN
CALSCALE:GREGORIAN
METHOD:PUBLISH
X-WR-CALNAME:Research And Engagement
X-ORIGINAL-URL:https://research.uncg.edu
X-WR-CALDESC:Events for Research And Engagement
REFRESH-INTERVAL;VALUE=DURATION:PT1H
X-Robots-Tag:noindex
X-PUBLISHED-TTL:PT1H
BEGIN:VTIMEZONE
TZID:America/New_York
BEGIN:DAYLIGHT
TZOFFSETFROM:-0500
TZOFFSETTO:-0400
TZNAME:EDT
DTSTART:20220313T070000
END:DAYLIGHT
BEGIN:STANDARD
TZOFFSETFROM:-0400
TZOFFSETTO:-0500
TZNAME:EST
DTSTART:20221106T060000
END:STANDARD
BEGIN:DAYLIGHT
TZOFFSETFROM:-0500
TZOFFSETTO:-0400
TZNAME:EDT
DTSTART:20230312T070000
END:DAYLIGHT
BEGIN:STANDARD
TZOFFSETFROM:-0400
TZOFFSETTO:-0500
TZNAME:EST
DTSTART:20231105T060000
END:STANDARD
BEGIN:DAYLIGHT
TZOFFSETFROM:-0500
TZOFFSETTO:-0400
TZNAME:EDT
DTSTART:20240310T070000
END:DAYLIGHT
BEGIN:STANDARD
TZOFFSETFROM:-0400
TZOFFSETTO:-0500
TZNAME:EST
DTSTART:20241103T060000
END:STANDARD
END:VTIMEZONE
BEGIN:VEVENT
DTSTART;VALUE=DATE:20230224
DTEND;VALUE=DATE:20230225
DTSTAMP:20260420T025140
CREATED:20221215T214511Z
LAST-MODIFIED:20230202T180114Z
UID:10000002-1677196800-1677283199@research.uncg.edu
SUMMARY:W^3 Competition (Webinars Worth Watching)
DESCRIPTION:Virtual programming and presentations\, such as webinars\, are becoming more and more common in education and the workforce. But how many webinars have you been to that are boring\, where you end up browsing the Internet? Graduate students need to be able to present their work and research digitally\, as well as communicate the information effectively and quickly within the virtual programming tool.   \nThe UNCG Graduate School and UNCG University Libraries will have a competition for face-to-face and online graduate students to determine who can give the most effective webinar or virtual presentation in 10 minutes.  We will put out a call for proposals to all of the graduate programs and select students to compete. Over 1 week\, the competition will run virtual webinar sessions of 4-5 students in each session\, with 3-4 finalists selected based on a rubric.  At the end of the week\, we will have 1 virtual session of 4 students and declare a winner.   \nhttps://sites.google.com/uncg.edu/uncgw3/home?pli=1
URL:https://research.uncg.edu/event/w3-competition-webinars-worth-watching/
LOCATION:NC
END:VEVENT
END:VCALENDAR