BEGIN:VCALENDAR
VERSION:2.0
PRODID:-//Research And Engagement - ECPv6.15.20//NONSGML v1.0//EN
CALSCALE:GREGORIAN
METHOD:PUBLISH
X-ORIGINAL-URL:https://research.uncg.edu
X-WR-CALDESC:Events for Research And Engagement
REFRESH-INTERVAL;VALUE=DURATION:PT1H
X-Robots-Tag:noindex
X-PUBLISHED-TTL:PT1H
BEGIN:VTIMEZONE
TZID:America/New_York
BEGIN:DAYLIGHT
TZOFFSETFROM:-0500
TZOFFSETTO:-0400
TZNAME:EDT
DTSTART:20250309T070000
END:DAYLIGHT
BEGIN:STANDARD
TZOFFSETFROM:-0400
TZOFFSETTO:-0500
TZNAME:EST
DTSTART:20251102T060000
END:STANDARD
BEGIN:DAYLIGHT
TZOFFSETFROM:-0500
TZOFFSETTO:-0400
TZNAME:EDT
DTSTART:20260308T070000
END:DAYLIGHT
BEGIN:STANDARD
TZOFFSETFROM:-0400
TZOFFSETTO:-0500
TZNAME:EST
DTSTART:20261101T060000
END:STANDARD
BEGIN:DAYLIGHT
TZOFFSETFROM:-0500
TZOFFSETTO:-0400
TZNAME:EDT
DTSTART:20270314T070000
END:DAYLIGHT
BEGIN:STANDARD
TZOFFSETFROM:-0400
TZOFFSETTO:-0500
TZNAME:EST
DTSTART:20271107T060000
END:STANDARD
END:VTIMEZONE
BEGIN:VEVENT
DTSTART;TZID=America/New_York:20260210T000000
DTEND;TZID=America/New_York:20260212T235959
DTSTAMP:20260424T142525
CREATED:20260204T190727Z
LAST-MODIFIED:20260204T190727Z
UID:10000954-1770681600-1770940799@research.uncg.edu
SUMMARY:National ESEA Conference – 2026
DESCRIPTION:National ESEA Conference\nFebruary 10-12\, 2026\nDenver\, CO and Online \nhttps://www.eseanetwork.org/
URL:https://research.uncg.edu/event/national-esea-conference-2026/
LOCATION:NC
CATEGORIES:SERVE
END:VEVENT
BEGIN:VEVENT
DTSTART;TZID=America/New_York:20260211T000000
DTEND;TZID=America/New_York:20260211T235959
DTSTAMP:20260424T142526
CREATED:20260121T191211Z
LAST-MODIFIED:20260211T191730Z
UID:10000928-1770768000-1770854399@research.uncg.edu
SUMMARY:Pathways to Achieving Civic Engagement Conference @ Elon
DESCRIPTION:North Carolina Community Engagement is our statewide group focused on community engagement work. Their annual Pathways to Achieving Civic Engagement (PACE) Conference seeks to grow and share the practice and scholarship of higher education community and civic engagement. Launched in 1999\, PACE is the longest-running regional conference in the nation focused on this topic. \nPlenary and breakout sessions advance the higher education CCE (community and civic engagement) field by sharing research findings\, innovative programs and partnerships\, effective curricular or co-curricular models\, strategies for institutional capacity building\, and best practices. Faculty\, administrators\, graduate students\, and  community partners are all welcome to explore “Pathways to Achieving Civic Engagement.” \nThe Call for Proposals is typically released in September\, with a deadline in November.
URL:https://research.uncg.edu/event/pathways-to-achieving-civic-engagement-conference-elon/
LOCATION:NC
CATEGORIES:Institute for Community and Economic Engagement
END:VEVENT
BEGIN:VEVENT
DTSTART;TZID=America/New_York:20260211T140000
DTEND;TZID=America/New_York:20260211T150000
DTSTAMP:20260424T142526
CREATED:20260211T191737Z
LAST-MODIFIED:20260211T191737Z
UID:10000962-1770818400-1770822000@research.uncg.edu
SUMMARY:HOW TO WRITE AN ABSTRACT WORKSHOP
DESCRIPTION:Turn your research into a story worth sharing!\nJoin us to learn how to write an abstract that is clear\, impactful\, and memorable.\n\nJoin: https://teams.microsoft.com/meet/23737873713850 \nMeeting ID: 237 378 737 138 50\nPasscode: os3vg9HH
URL:https://research.uncg.edu/event/how-to-write-an-abstract-workshop/
LOCATION:online/virtual
CATEGORIES:URSCO
END:VEVENT
BEGIN:VEVENT
DTSTART;TZID=America/New_York:20260211T190000
DTEND;TZID=America/New_York:20260211T200000
DTSTAMP:20260424T142526
CREATED:20260204T184155Z
LAST-MODIFIED:20260204T184354Z
UID:10000943-1770836400-1770840000@research.uncg.edu
SUMMARY:Shari Rabin: "The Jewish South: An American History"
DESCRIPTION:UNCG Jewish Studies Henry Samuel Levinson Lecture presents Shari Rabin with “The Jewish South: An American History”
URL:https://research.uncg.edu/event/shari-rabin-the-jewish-south-an-american-history/
LOCATION:Marcus T. Johnson Alumni House\, 404 College Avenue\, Greensboro\, NC\, 27412\, United States
CATEGORIES:Humanities Network and Consortium
ATTACH;FMTTYPE=image/jpeg:https://research.uncg.edu/wp-content/uploads/2026/02/Birds-Head-Haggadah-e1770230493537.jpg
END:VEVENT
END:VCALENDAR