BEGIN:VCALENDAR
VERSION:2.0
PRODID:-//Research And Engagement - ECPv6.15.20//NONSGML v1.0//EN
CALSCALE:GREGORIAN
METHOD:PUBLISH
X-ORIGINAL-URL:https://research.uncg.edu
X-WR-CALDESC:Events for Research And Engagement
REFRESH-INTERVAL;VALUE=DURATION:PT1H
X-Robots-Tag:noindex
X-PUBLISHED-TTL:PT1H
BEGIN:VTIMEZONE
TZID:America/New_York
BEGIN:DAYLIGHT
TZOFFSETFROM:-0500
TZOFFSETTO:-0400
TZNAME:EDT
DTSTART:20250309T070000
END:DAYLIGHT
BEGIN:STANDARD
TZOFFSETFROM:-0400
TZOFFSETTO:-0500
TZNAME:EST
DTSTART:20251102T060000
END:STANDARD
BEGIN:DAYLIGHT
TZOFFSETFROM:-0500
TZOFFSETTO:-0400
TZNAME:EDT
DTSTART:20260308T070000
END:DAYLIGHT
BEGIN:STANDARD
TZOFFSETFROM:-0400
TZOFFSETTO:-0500
TZNAME:EST
DTSTART:20261101T060000
END:STANDARD
BEGIN:DAYLIGHT
TZOFFSETFROM:-0500
TZOFFSETTO:-0400
TZNAME:EDT
DTSTART:20270314T070000
END:DAYLIGHT
BEGIN:STANDARD
TZOFFSETFROM:-0400
TZOFFSETTO:-0500
TZNAME:EST
DTSTART:20271107T060000
END:STANDARD
END:VTIMEZONE
BEGIN:VEVENT
DTSTART;TZID=America/New_York:20260210T000000
DTEND;TZID=America/New_York:20260212T235959
DTSTAMP:20260421T032044
CREATED:20260204T190727Z
LAST-MODIFIED:20260204T190727Z
UID:10000954-1770681600-1770940799@research.uncg.edu
SUMMARY:National ESEA Conference – 2026
DESCRIPTION:National ESEA Conference\nFebruary 10-12\, 2026\nDenver\, CO and Online \nhttps://www.eseanetwork.org/
URL:https://research.uncg.edu/event/national-esea-conference-2026/
LOCATION:NC
CATEGORIES:SERVE
END:VEVENT
BEGIN:VEVENT
DTSTART;TZID=America/New_York:20260212T000000
DTEND;TZID=America/New_York:20260213T235959
DTSTAMP:20260421T032044
CREATED:20260121T190345Z
LAST-MODIFIED:20260212T141727Z
UID:10000925-1770854400-1771027199@research.uncg.edu
SUMMARY:Foundations of Professional Interpreting
DESCRIPTION:The Foundations of Professional Interpreting is a 2-day\, 16-hour workshop (8 hours/day) that provides individuals with the basic knowledge about principles and standards of interpreting in the health and human service fields established by the National Council for Interpreting in Health Care (NCIHC).  In addition to learning the nine principles and thirty-two standards of practice for interpreting\, the course covers topics of demographics\, intercultural competence\, communication\, modes of interpreting\, and roles of the professional interpreter.  This course is a prerequisite for the Foundations of Medical Interpreting and Skills Improvement workshops.  $300.00 \nRegister here \n 
URL:https://research.uncg.edu/event/foundations-of-professional-interpreting/
LOCATION:CNNC\, 923 W. Gate City Blvd\, Greensboro\, NC\, 27403\, United States
CATEGORIES:IAP Training,The Center for New North Carolinians
ORGANIZER;CN="CNNC":MAILTO:IAP@uncg.edu
END:VEVENT
BEGIN:VEVENT
DTSTART;TZID=America/New_York:20260212T180000
DTEND;TZID=America/New_York:20260212T210000
DTSTAMP:20260421T032044
CREATED:20260204T205943Z
LAST-MODIFIED:20260204T205946Z
UID:10000958-1770919200-1770930000@research.uncg.edu
SUMMARY:When War Threatens the Planet:A Screening & Talk with Abby Martin
DESCRIPTION:Join us for a screening of Abby Martin’s latest documentary\, Earth’s Greatest Enemy\, followed by a live virtual talk and Q&A with Abby herself.  \n\n\n\nThe film investigates how war\, militarism\, and empire pose one of the greatest threats to life on Earth\, connecting environmental destruction\, human suffering\, and global instability. This is a timely\, thought-provoking film that invites urgent reflection and community discussion.  \n\n\n\nFree parking behind the adjacent Weatherspoon Museum
URL:https://research.uncg.edu/event/when-war-threatens-the-planeta-screening-talk-with-abby-martin/
LOCATION:Graham Building\, 1009 Spring Garden Street\, Greensboro\, NC\, 27412\, United States
CATEGORIES:Humanities Network and Consortium
ATTACH;FMTTYPE=image/jpeg:https://research.uncg.edu/wp-content/uploads/2026/02/HNAC.jpg
ORGANIZER;CN="UNCG Humanities Network and Consortium":MAILTO:hnac@uncg.edu
END:VEVENT
END:VCALENDAR