BEGIN:VCALENDAR
VERSION:2.0
PRODID:-//Research And Engagement - ECPv6.15.20//NONSGML v1.0//EN
CALSCALE:GREGORIAN
METHOD:PUBLISH
X-ORIGINAL-URL:https://research.uncg.edu
X-WR-CALDESC:Events for Research And Engagement
REFRESH-INTERVAL;VALUE=DURATION:PT1H
X-Robots-Tag:noindex
X-PUBLISHED-TTL:PT1H
BEGIN:VTIMEZONE
TZID:UTC
BEGIN:STANDARD
TZOFFSETFROM:+0000
TZOFFSETTO:+0000
TZNAME:UTC
DTSTART:20250101T000000
END:STANDARD
END:VTIMEZONE
BEGIN:VEVENT
DTSTART;TZID=UTC:20260219T100000
DTEND;TZID=UTC:20260219T113000
DTSTAMP:20260423T013509
CREATED:20260204T190105Z
LAST-MODIFIED:20260211T190203Z
UID:10000949-1771495200-1771500600@research.uncg.edu
SUMMARY:Charter School Learning Series: Ensuring Educational Stability for Students in Foster Care 
DESCRIPTION:@ 			\n			\n							 \n\nNCHEP is hosting a virtual Learning Series for charter and lab homeless liaisons. Each session will focus on a specific topic that will enhance charter and lab school’s practices and policies and ensure compliance with federal law. This session will review the requirements outlined in the Every Student Success Act (ESSA) to ensure educational stability for students in foster care.  \n\n\nNC Homeless Education Program\n \n336.315.7400 \nView Organizer Website \n \n\n\n\n\n\n\n						\n							Add to calendar						 \n\n\n\n									\n										Google Calendar									\n								\n\n									\n										iCalendar									\n								\n\n									\n										Outlook 365									\n								\n\n									\n										Outlook Live
URL:https://research.uncg.edu/event/charter-school-learning-series-ensuring-educational-stability-for-students-in-foster-care/
CATEGORIES:Charter,NC Homeless Education Program
ATTACH;FMTTYPE=image/png:https://research.uncg.edu/wp-content/uploads/2026/02/Learning-Series-qNtJm5.png
END:VEVENT
BEGIN:VEVENT
DTSTART;TZID=UTC:20260218T100000
DTEND;TZID=UTC:20260218T113000
DTSTAMP:20260423T013509
CREATED:20260204T190104Z
LAST-MODIFIED:20260211T190203Z
UID:10000948-1771408800-1771414200@research.uncg.edu
SUMMARY:Charter School Learning Series: Transporting Students Experiencing Homelessness 
DESCRIPTION:@ 			\n			\n							 \n\nNCHEP is hosting a virtual Learning Series for charter and lab homeless liaisons. Each session will focus on a specific topic that will enhance charter and lab school’s practices and policies and ensure compliance with federal law. This session will cover the requirements charter and lab schools have as it pertains to transporting students experiencing homelessness.    \n\n\nNC Homeless Education Program\n \n336.315.7400 \nView Organizer Website \n \n\n\n\n\n\n\n						\n							Add to calendar						 \n\n\n\n									\n										Google Calendar									\n								\n\n									\n										iCalendar									\n								\n\n									\n										Outlook 365									\n								\n\n									\n										Outlook Live
URL:https://research.uncg.edu/event/charter-school-learning-series-transporting-students-experiencing-homelessness/
CATEGORIES:Charter,NC Homeless Education Program
ATTACH;FMTTYPE=image/png:https://research.uncg.edu/wp-content/uploads/2026/02/Learning-Series-qNtJm5.png
END:VEVENT
BEGIN:VEVENT
DTSTART;TZID=UTC:20260217T100000
DTEND;TZID=UTC:20260217T113000
DTSTAMP:20260423T013509
CREATED:20260204T190104Z
LAST-MODIFIED:20260211T190202Z
UID:10000947-1771322400-1771327800@research.uncg.edu
SUMMARY:Charter School Learning Series: McKinney-Vento Identification & Eligibility 
DESCRIPTION:@ 			\n			\n							 \n\nNCHEP is hosting a virtual Learning Series for charter and lab homeless liaisons. Each session will focus on a specific topic that will enhance charter and lab school’s practices and policies and ensure compliance with federal law. This session will review best practices for identifying and serving students experiencing homelessness.    \n\n\nNC Homeless Education Program\n \n336.315.7400 \nView Organizer Website \n \n\n\n\n\n\n\n						\n							Add to calendar						 \n\n\n\n									\n										Google Calendar									\n								\n\n									\n										iCalendar									\n								\n\n									\n										Outlook 365									\n								\n\n									\n										Outlook Live
URL:https://research.uncg.edu/event/charter-school-learning-series-mckinney-vento-identification-eligibility/
CATEGORIES:Charter,NC Homeless Education Program
ATTACH;FMTTYPE=image/png:https://research.uncg.edu/wp-content/uploads/2026/02/Learning-Series-qNtJm5.png
END:VEVENT
BEGIN:VEVENT
DTSTART;TZID=UTC:20260216T100000
DTEND;TZID=UTC:20260216T113000
DTSTAMP:20260423T013509
CREATED:20260204T190102Z
LAST-MODIFIED:20260211T190202Z
UID:10000946-1771236000-1771241400@research.uncg.edu
SUMMARY:Charter School Learning Series: Homeless Liaison Roles & Responsibilities 
DESCRIPTION:@ 			\n			\n							 \n\nNCHEP is hosting a virtual Learning Series for charter and lab homeless liaisons. Each session will focus on a specific topic that will enhance charter and lab school’s practices and policies and ensure compliance with federal law. This session will review the roles and responsibilities of appointed homeless liaisons as outlined in the McKinney-Vento Act.   \n\n    \n\n\nNC Homeless Education Program\n \n336.315.7400 \nView Organizer Website \n \n\n\n\n\n\n\n						\n							Add to calendar						 \n\n\n\n									\n										Google Calendar									\n								\n\n									\n										iCalendar									\n								\n\n									\n										Outlook 365									\n								\n\n									\n										Outlook Live
URL:https://research.uncg.edu/event/charter-school-learning-series-homeless-liaison-roles-responsibilities/
CATEGORIES:Charter,NC Homeless Education Program
ATTACH;FMTTYPE=image/png:https://research.uncg.edu/wp-content/uploads/2026/02/Learning-Series-qNtJm5.png
END:VEVENT
END:VCALENDAR