BEGIN:VCALENDAR
VERSION:2.0
PRODID:-//Research And Engagement - ECPv6.15.20//NONSGML v1.0//EN
CALSCALE:GREGORIAN
METHOD:PUBLISH
X-ORIGINAL-URL:https://research.uncg.edu
X-WR-CALDESC:Events for Research And Engagement
REFRESH-INTERVAL;VALUE=DURATION:PT1H
X-Robots-Tag:noindex
X-PUBLISHED-TTL:PT1H
BEGIN:VTIMEZONE
TZID:America/New_York
BEGIN:DAYLIGHT
TZOFFSETFROM:-0500
TZOFFSETTO:-0400
TZNAME:EDT
DTSTART:20250309T070000
END:DAYLIGHT
BEGIN:STANDARD
TZOFFSETFROM:-0400
TZOFFSETTO:-0500
TZNAME:EST
DTSTART:20251102T060000
END:STANDARD
BEGIN:DAYLIGHT
TZOFFSETFROM:-0500
TZOFFSETTO:-0400
TZNAME:EDT
DTSTART:20260308T070000
END:DAYLIGHT
BEGIN:STANDARD
TZOFFSETFROM:-0400
TZOFFSETTO:-0500
TZNAME:EST
DTSTART:20261101T060000
END:STANDARD
BEGIN:DAYLIGHT
TZOFFSETFROM:-0500
TZOFFSETTO:-0400
TZNAME:EDT
DTSTART:20270314T070000
END:DAYLIGHT
BEGIN:STANDARD
TZOFFSETFROM:-0400
TZOFFSETTO:-0500
TZNAME:EST
DTSTART:20271107T060000
END:STANDARD
END:VTIMEZONE
BEGIN:VEVENT
DTSTART;TZID=America/New_York:20260324T120000
DTEND;TZID=America/New_York:20260324T123000
DTSTAMP:20260422T022351
CREATED:20260305T185355Z
LAST-MODIFIED:20260305T185355Z
UID:10000988-1774353600-1774355400@research.uncg.edu
SUMMARY:UNCG Libraries Webinar: The new AI-powered tools for scholarly literature discovery
DESCRIPTION:“The new AI-powered tools for scholarly literature discovery” by Steve Cramer\, Tuesday March 24 at 12pm – \nLearn about some of the AI-augmented databases for research discovery and citation analysis. Examples include Scite\, Research Rabbit\, Consensus\, Undermind\, and Elicit. These tools allow researchers to search by semantics (concepts)\, map scholarly networks\, provide context for citations\, and/or evaluate citation patterns. How useful – and appropriate — are these tools for literature reviews? How do they compare to older tools like Google Scholar\, EBSCO\, and ProQuest? And are they worth your money? (Note: I have full access to Scite\, but will use free versions of the other products.) \n\n\nSign Up
URL:https://research.uncg.edu/event/uncg-libraries-webinar-the-new-ai-powered-tools-for-scholarly-literature-discovery/
LOCATION:Virtual – Teams\, NC\, United States
CATEGORIES:Faculty Professional Development,Graduate School,University Libraries
ATTACH;FMTTYPE=image/jpeg:https://research.uncg.edu/wp-content/uploads/2026/03/surface-XHSYzoIC_SM-unsplash-scaled-S7wiPF.tmp_-7BBMWN.jpg
ORGANIZER;CN="Samantha Harlow":MAILTO:slharlow@uncg.edu
END:VEVENT
END:VCALENDAR