BEGIN:VCALENDAR
VERSION:2.0
PRODID:-//Research And Engagement - ECPv6.15.20//NONSGML v1.0//EN
CALSCALE:GREGORIAN
METHOD:PUBLISH
X-WR-CALNAME:Research And Engagement
X-ORIGINAL-URL:https://research.uncg.edu
X-WR-CALDESC:Events for Research And Engagement
REFRESH-INTERVAL;VALUE=DURATION:PT1H
X-Robots-Tag:noindex
X-PUBLISHED-TTL:PT1H
BEGIN:VTIMEZONE
TZID:America/New_York
BEGIN:DAYLIGHT
TZOFFSETFROM:-0500
TZOFFSETTO:-0400
TZNAME:EDT
DTSTART:20250309T070000
END:DAYLIGHT
BEGIN:STANDARD
TZOFFSETFROM:-0400
TZOFFSETTO:-0500
TZNAME:EST
DTSTART:20251102T060000
END:STANDARD
BEGIN:DAYLIGHT
TZOFFSETFROM:-0500
TZOFFSETTO:-0400
TZNAME:EDT
DTSTART:20260308T070000
END:DAYLIGHT
BEGIN:STANDARD
TZOFFSETFROM:-0400
TZOFFSETTO:-0500
TZNAME:EST
DTSTART:20261101T060000
END:STANDARD
BEGIN:DAYLIGHT
TZOFFSETFROM:-0500
TZOFFSETTO:-0400
TZNAME:EDT
DTSTART:20270314T070000
END:DAYLIGHT
BEGIN:STANDARD
TZOFFSETFROM:-0400
TZOFFSETTO:-0500
TZNAME:EST
DTSTART:20271107T060000
END:STANDARD
END:VTIMEZONE
BEGIN:VEVENT
DTSTART;TZID=America/New_York:20260205T090000
DTEND;TZID=America/New_York:20260205T110000
DTSTAMP:20260423T035653
CREATED:20260128T191708Z
LAST-MODIFIED:20260204T191659Z
UID:10000932-1770282000-1770289200@research.uncg.edu
SUMMARY:Knowledge Production Corner
DESCRIPTION:The Institute for Community and Economic Engagement is excited to continue Knowledge Production Corner for the spring semester! Are you a community-engaged scholar (faculty\, staff\, or student)? Do you have research projects or ideas that you are trying push forward to the next step? Do you want a regular space to collective work with community partners? Come work in community with others who are doing the same! \nTo join us face-to-face\, we’ll meet in MHRA 3603. \nTo join us remotely\, please register here: \nKnowledge Production Corner (Spring 2026) | Meeting-Join | Microsoft Teams \n 
URL:https://research.uncg.edu/event/knowledge-production-corner-3/
LOCATION:Moore Humanities and Research Administration Building\, Rm. 3603\, 1111 Spring Garden Street\, Greensboro\, NC\, 27412\, United States
CATEGORIES:Institute for Community and Economic Engagement
END:VEVENT
END:VCALENDAR