BEGIN:VCALENDAR
VERSION:2.0
PRODID:-//Research And Engagement - ECPv6.15.20//NONSGML v1.0//EN
CALSCALE:GREGORIAN
METHOD:PUBLISH
X-ORIGINAL-URL:https://research.uncg.edu
X-WR-CALDESC:Events for Research And Engagement
REFRESH-INTERVAL;VALUE=DURATION:PT1H
X-Robots-Tag:noindex
X-PUBLISHED-TTL:PT1H
BEGIN:VTIMEZONE
TZID:America/New_York
BEGIN:DAYLIGHT
TZOFFSETFROM:-0500
TZOFFSETTO:-0400
TZNAME:EDT
DTSTART:20250309T070000
END:DAYLIGHT
BEGIN:STANDARD
TZOFFSETFROM:-0400
TZOFFSETTO:-0500
TZNAME:EST
DTSTART:20251102T060000
END:STANDARD
BEGIN:DAYLIGHT
TZOFFSETFROM:-0500
TZOFFSETTO:-0400
TZNAME:EDT
DTSTART:20260308T070000
END:DAYLIGHT
BEGIN:STANDARD
TZOFFSETFROM:-0400
TZOFFSETTO:-0500
TZNAME:EST
DTSTART:20261101T060000
END:STANDARD
BEGIN:DAYLIGHT
TZOFFSETFROM:-0500
TZOFFSETTO:-0400
TZNAME:EDT
DTSTART:20270314T070000
END:DAYLIGHT
BEGIN:STANDARD
TZOFFSETFROM:-0400
TZOFFSETTO:-0500
TZNAME:EST
DTSTART:20271107T060000
END:STANDARD
END:VTIMEZONE
BEGIN:VEVENT
DTSTART;TZID=America/New_York:20260319T090000
DTEND;TZID=America/New_York:20260319T110000
DTSTAMP:20260419T221322
CREATED:20260128T191711Z
LAST-MODIFIED:20260228T121748Z
UID:10000937-1773910800-1773918000@research.uncg.edu
SUMMARY:Knowledge Production Corner
DESCRIPTION:The Institute for Community and Economic Engagement is excited to continue Knowledge Production Corner for the spring semester! Are you a community-engaged scholar (faculty\, staff\, or student)? Do you have research projects or ideas that you are trying push forward to the next step? Do you want a regular space to collective work with community partners? Come work in community with others who are doing the same! \nTo join us face-to-face\, we’ll meet in MHRA 3603. \nTo join us remotely\, please register here: \nKnowledge Production Corner (Spring 2026) | Meeting-Join | Microsoft Teams \n 
URL:https://research.uncg.edu/event/knowledge-production-corner-6/
LOCATION:Moore Humanities and Research Administration Building\, Rm. 3603\, 1111 Spring Garden Street\, Greensboro\, NC\, 27412\, United States
CATEGORIES:Institute for Community and Economic Engagement
END:VEVENT
BEGIN:VEVENT
DTSTART;TZID=America/New_York:20260319T163000
DTEND;TZID=America/New_York:20260319T180000
DTSTAMP:20260419T221322
CREATED:20260228T121749Z
LAST-MODIFIED:20260228T121749Z
UID:10000985-1773937800-1773943200@research.uncg.edu
SUMMARY:Be Here Club
DESCRIPTION:@ 			\n			\n							 \n\n\nBe Here Club (BHC) is a monthly gathering that’s part of the ICEE fellows program to support the convening and celebrating of community-engaged scholars\, broadly defined. So whether you are a community-engaged scholar\, know someone who is\, or just want to meet a few cool folx\, we’d love to see you. All are welcome! \nWould YOU like to cohost a Be Here Club? Let us know by reaching out to communityengagement@uncg.edu! \n\n\n\n\n\n\n						\n							Add to calendar						 \n\n\n\n									\n										Google Calendar									\n								\n\n									\n										iCalendar									\n								\n\n									\n										Outlook 365									\n								\n\n									\n										Outlook Live									\n								\n\n \n \n \n \n\n\n\n					Details\n	\n\n\n				Date:\n				\n					  \n				\n			\n\n				Time:
URL:https://research.uncg.edu/event/be-here-club-6/
LOCATION:Oden Brewing Company\, 802 W. Gate City Blvd\, Greensboro\, NC\, 27403\, United States
CATEGORIES:Institute for Community and Economic Engagement
ORGANIZER;CN="Kristy Wittman Howell":MAILTO:kwhowell@uncg.edu
END:VEVENT
END:VCALENDAR