BEGIN:VCALENDAR
VERSION:2.0
PRODID:-//Research And Engagement - ECPv6.15.20//NONSGML v1.0//EN
CALSCALE:GREGORIAN
METHOD:PUBLISH
X-WR-CALNAME:Research And Engagement
X-ORIGINAL-URL:https://research.uncg.edu
X-WR-CALDESC:Events for Research And Engagement
REFRESH-INTERVAL;VALUE=DURATION:PT1H
X-Robots-Tag:noindex
X-PUBLISHED-TTL:PT1H
BEGIN:VTIMEZONE
TZID:America/New_York
BEGIN:DAYLIGHT
TZOFFSETFROM:-0500
TZOFFSETTO:-0400
TZNAME:EDT
DTSTART:20250309T070000
END:DAYLIGHT
BEGIN:STANDARD
TZOFFSETFROM:-0400
TZOFFSETTO:-0500
TZNAME:EST
DTSTART:20251102T060000
END:STANDARD
BEGIN:DAYLIGHT
TZOFFSETFROM:-0500
TZOFFSETTO:-0400
TZNAME:EDT
DTSTART:20260308T070000
END:DAYLIGHT
BEGIN:STANDARD
TZOFFSETFROM:-0400
TZOFFSETTO:-0500
TZNAME:EST
DTSTART:20261101T060000
END:STANDARD
BEGIN:DAYLIGHT
TZOFFSETFROM:-0500
TZOFFSETTO:-0400
TZNAME:EDT
DTSTART:20270314T070000
END:DAYLIGHT
BEGIN:STANDARD
TZOFFSETFROM:-0400
TZOFFSETTO:-0500
TZNAME:EST
DTSTART:20271107T060000
END:STANDARD
END:VTIMEZONE
BEGIN:VEVENT
DTSTART;TZID=America/New_York:20260324T120000
DTEND;TZID=America/New_York:20260324T130000
DTSTAMP:20260424T052930
CREATED:20260320T163405Z
LAST-MODIFIED:20260320T163610Z
UID:10001002-1774353600-1774357200@research.uncg.edu
SUMMARY:Webinar: New AI-Powered Tools for Scholarly Literature Discovery with Steve Cramer
DESCRIPTION:Learn about some of the AI-augmented databases for research discovery and citation analysis. Examples include Scite\, Research Rabbit\, Consensus\, Undermind\, and Elicit. These tools allow researchers to search by semantics (concepts)\, map scholarly networks\, provide context for citations\, and/or evaluate citation patterns. How useful – and appropriate — are these tools for literature reviews? How do they compare to older tools like Google Scholar\, EBSCO\, and ProQuest? And are they worth your money? (Note: I have full access to Scite\, but will use free versions of the other products.) \nRegister by clicking here. \nFree and open to all UNCG students\, staff\, faculty\, alumni\, and donors.
URL:https://research.uncg.edu/event/webinar-new-ai-powered-tools-for-scholarly-literature-discovery-with-steve-cramer/
CATEGORIES:Library Event,University Libraries
END:VEVENT
END:VCALENDAR