BEGIN:VCALENDAR
VERSION:2.0
PRODID:-//Research And Engagement - ECPv6.15.20//NONSGML v1.0//EN
CALSCALE:GREGORIAN
METHOD:PUBLISH
X-WR-CALNAME:Research And Engagement
X-ORIGINAL-URL:https://research.uncg.edu
X-WR-CALDESC:Events for Research And Engagement
REFRESH-INTERVAL;VALUE=DURATION:PT1H
X-Robots-Tag:noindex
X-PUBLISHED-TTL:PT1H
BEGIN:VTIMEZONE
TZID:America/New_York
BEGIN:DAYLIGHT
TZOFFSETFROM:-0500
TZOFFSETTO:-0400
TZNAME:EDT
DTSTART:20230312T070000
END:DAYLIGHT
BEGIN:STANDARD
TZOFFSETFROM:-0400
TZOFFSETTO:-0500
TZNAME:EST
DTSTART:20231105T060000
END:STANDARD
BEGIN:DAYLIGHT
TZOFFSETFROM:-0500
TZOFFSETTO:-0400
TZNAME:EDT
DTSTART:20240310T070000
END:DAYLIGHT
BEGIN:STANDARD
TZOFFSETFROM:-0400
TZOFFSETTO:-0500
TZNAME:EST
DTSTART:20241103T060000
END:STANDARD
BEGIN:DAYLIGHT
TZOFFSETFROM:-0500
TZOFFSETTO:-0400
TZNAME:EDT
DTSTART:20250309T070000
END:DAYLIGHT
BEGIN:STANDARD
TZOFFSETFROM:-0400
TZOFFSETTO:-0500
TZNAME:EST
DTSTART:20251102T060000
END:STANDARD
BEGIN:DAYLIGHT
TZOFFSETFROM:-0500
TZOFFSETTO:-0400
TZNAME:EDT
DTSTART:20260308T070000
END:DAYLIGHT
BEGIN:STANDARD
TZOFFSETFROM:-0400
TZOFFSETTO:-0500
TZNAME:EST
DTSTART:20261101T060000
END:STANDARD
END:VTIMEZONE
BEGIN:VEVENT
DTSTART;TZID=America/New_York:20250324T170000
DTEND;TZID=America/New_York:20250324T180000
DTSTAMP:20260425T171108
CREATED:20250317T145503Z
LAST-MODIFIED:20250317T145506Z
UID:10000843-1742835600-1742839200@research.uncg.edu
SUMMARY:Xhenet Aliu Faculty Fiction Reading
DESCRIPTION:
URL:https://english.uncg.edu/xhenet-aliu-faculty-fiction-reading/#new_tab
LOCATION:UNCG Alumni House\, 404 College Ave\, Greensboro\, North Carolina\, 27412\, United States
ORGANIZER;CN="Creative Writing MFA":MAILTO:mfa@uncg.edu
END:VEVENT
BEGIN:VEVENT
DTSTART;TZID=America/New_York:20241107T180000
DTEND;TZID=America/New_York:20241107T190000
DTSTAMP:20260425T171108
CREATED:20241031T184338Z
LAST-MODIFIED:20241031T184338Z
UID:10000439-1731002400-1731006000@research.uncg.edu
SUMMARY:Maggie Cooper and Chad Holley Alumni Fiction Reading
DESCRIPTION:The MFA Writing Program at UNC Greensboro and The Greensboro Review will host an alumni fiction reading by Maggie Copper and Chad Holley on Thursday\, November 7th at 6PM at Scuppernong Books\, 304 S. Elm Street. The event is free and open to the public and will be followed by a book signing. \nMAGGIE COOPER is the author of the short story collection\, The Theme Park of Women’s Bodies (Bull City Press 2024). A graduate of Yale College\, the Clarion Writers’ Workshop\, and the MFA program at the University of North Carolina at Greensboro\, her writing has appeared in The Rumpus\, Ninth Letter\, Inch\, and elsewhere. She lives with her spouse in the Boston area and also works as a literary agent. \nCHAD HOLLEY is the author of the novel\, Shield the Joyous (Bull City Books 2024). A native of Mississippi\, he earned an MFA in Creative Writing from the University of North Carolina at Greensboro and a law degree in California\, where until recently he served as a judicial attorney for the California Court of Appeal and now teaches law. His stories and essays have appeared in various publications\, including The Greensboro Review\, Shenandoah\, storySouth\, and Houghton Mifflin’s Best American Mystery Stories.He lives in Los Angeles with singer-songwriter Claire Holley and their two sons.
URL:https://research.uncg.edu/event/maggie-cooper-and-chad-holley-alumni-fiction-reading/
ATTACH;FMTTYPE=image/jpeg:https://research.uncg.edu/wp-content/uploads/2019/11/bagbooks-scaled-1.jpg
ORGANIZER;CN="Creative Writing MFA":MAILTO:mfa@uncg.edu
END:VEVENT
BEGIN:VEVENT
DTSTART;TZID=America/New_York:20241026T160000
DTEND;TZID=America/New_York:20241026T170000
DTSTAMP:20260425T171108
CREATED:20241009T171126Z
LAST-MODIFIED:20241009T171126Z
UID:10000405-1729958400-1729962000@research.uncg.edu
SUMMARY:Ever After Book Release Celebration
DESCRIPTION:The UNCG MFA in Creative Writing program and the Greensboro Review will be hosting a Book Release celebration for Fred Chappell’s new poetry collection Ever After. This event will take place at Scuppernong Books at 304 S. Elm Street on October 26th at 4pm.
URL:https://research.uncg.edu/event/ever-after-book-release-celebration/
ATTACH;FMTTYPE=image/jpeg:https://research.uncg.edu/wp-content/uploads/2023/10/PIC30643_Summer-2021-Campus-Aerial-11.jpg
ORGANIZER;CN="Creative Writing MFA":MAILTO:mfa@uncg.edu
END:VEVENT
END:VCALENDAR