BEGIN:VCALENDAR
VERSION:2.0
PRODID:-//Research And Engagement - ECPv6.15.20//NONSGML v1.0//EN
CALSCALE:GREGORIAN
METHOD:PUBLISH
X-ORIGINAL-URL:https://research.uncg.edu
X-WR-CALDESC:Events for Research And Engagement
REFRESH-INTERVAL;VALUE=DURATION:PT1H
X-Robots-Tag:noindex
X-PUBLISHED-TTL:PT1H
BEGIN:VTIMEZONE
TZID:America/New_York
BEGIN:DAYLIGHT
TZOFFSETFROM:-0500
TZOFFSETTO:-0400
TZNAME:EDT
DTSTART:20230312T070000
END:DAYLIGHT
BEGIN:STANDARD
TZOFFSETFROM:-0400
TZOFFSETTO:-0500
TZNAME:EST
DTSTART:20231105T060000
END:STANDARD
BEGIN:DAYLIGHT
TZOFFSETFROM:-0500
TZOFFSETTO:-0400
TZNAME:EDT
DTSTART:20240310T070000
END:DAYLIGHT
BEGIN:STANDARD
TZOFFSETFROM:-0400
TZOFFSETTO:-0500
TZNAME:EST
DTSTART:20241103T060000
END:STANDARD
BEGIN:DAYLIGHT
TZOFFSETFROM:-0500
TZOFFSETTO:-0400
TZNAME:EDT
DTSTART:20250309T070000
END:DAYLIGHT
BEGIN:STANDARD
TZOFFSETFROM:-0400
TZOFFSETTO:-0500
TZNAME:EST
DTSTART:20251102T060000
END:STANDARD
END:VTIMEZONE
BEGIN:VEVENT
DTSTART;TZID=America/New_York:20241001T180000
DTEND;TZID=America/New_York:20241001T200000
DTSTAMP:20260425T212529
CREATED:20240829T165116Z
LAST-MODIFIED:20240829T165116Z
UID:10000368-1727805600-1727812800@research.uncg.edu
SUMMARY:A Dramatic Reading of Plays by Georgia Douglas Johnson
DESCRIPTION:AADS\, GCCRP\, and the UNCG School of Theatre present a dramatic reading of  “A Sunday Morning in the South” and “Blue-Eyed Black Boy\,” two plays by Georgia Douglas Johnson. Dr. Deborah Barnes will provide cultural context. \nThe reading will take place October 1st from 6 to 8 PM at the UNCG Sprinkle Theatre.
URL:https://research.uncg.edu/event/a-dramatic-reading-of-plays-by-georgia-douglas-johnson/
ATTACH;FMTTYPE=image/png:https://research.uncg.edu/wp-content/uploads/2024/06/Screenshot-2024-06-12-at-12.29.22 PM.png
END:VEVENT
END:VCALENDAR