BEGIN:VCALENDAR
VERSION:2.0
PRODID:-//Research And Engagement - ECPv6.15.20//NONSGML v1.0//EN
CALSCALE:GREGORIAN
METHOD:PUBLISH
X-WR-CALNAME:Research And Engagement
X-ORIGINAL-URL:https://research.uncg.edu
X-WR-CALDESC:Events for Research And Engagement
REFRESH-INTERVAL;VALUE=DURATION:PT1H
X-Robots-Tag:noindex
X-PUBLISHED-TTL:PT1H
BEGIN:VTIMEZONE
TZID:America/New_York
BEGIN:DAYLIGHT
TZOFFSETFROM:-0500
TZOFFSETTO:-0400
TZNAME:EDT
DTSTART:20240310T070000
END:DAYLIGHT
BEGIN:STANDARD
TZOFFSETFROM:-0400
TZOFFSETTO:-0500
TZNAME:EST
DTSTART:20241103T060000
END:STANDARD
BEGIN:DAYLIGHT
TZOFFSETFROM:-0500
TZOFFSETTO:-0400
TZNAME:EDT
DTSTART:20250309T070000
END:DAYLIGHT
BEGIN:STANDARD
TZOFFSETFROM:-0400
TZOFFSETTO:-0500
TZNAME:EST
DTSTART:20251102T060000
END:STANDARD
BEGIN:DAYLIGHT
TZOFFSETFROM:-0500
TZOFFSETTO:-0400
TZNAME:EDT
DTSTART:20260308T070000
END:DAYLIGHT
BEGIN:STANDARD
TZOFFSETFROM:-0400
TZOFFSETTO:-0500
TZNAME:EST
DTSTART:20261101T060000
END:STANDARD
BEGIN:DAYLIGHT
TZOFFSETFROM:-0500
TZOFFSETTO:-0400
TZNAME:EDT
DTSTART:20270314T070000
END:DAYLIGHT
BEGIN:STANDARD
TZOFFSETFROM:-0400
TZOFFSETTO:-0500
TZNAME:EST
DTSTART:20271107T060000
END:STANDARD
END:VTIMEZONE
BEGIN:VEVENT
DTSTART;TZID=America/New_York:20260409T160000
DTEND;TZID=America/New_York:20260409T160000
DTSTAMP:20260419T204418
CREATED:20260305T190244Z
LAST-MODIFIED:20260401T170601Z
UID:10000992-1775750400-1775750400@research.uncg.edu
SUMMARY:Rethinking How We Talk About And Work With A.I.
DESCRIPTION:  \nRescheduled from March 26 \n\nAshby Dialogues 2026-2026 Speakers’ SeriesRethinking the Algorithm: AI and the Human Experience\n\n\nRETHINKING HOW WE TALK ABOUT AND WORK WITH AI\nDr. Cristiane Damasceno\, UNCG Communication Studies\nAnthropomorphizing language can obscure the fact that replacing humans with machines does not lead to equivalent actions or interactions. \nThis session presents a framework for understanding how technology changes the nature of tasks and prescribes behaviors. \nLocation: School of Education Building\, Room 206 \n\n\n\nDr. Cristiane Damasceno\, Communication Studies (UNCG)\n\n\n\n \n\n\nUNCG College of Arts & Sciences\n\n336.334.5241 \nView Organizer Website \ncas@uncg.edu \n\n\n\n \n\n\n\n\n\n\nAdd to calendar \n\n\nGoogle Calendar \niCalendar \nOutlook 365 \nOutlook Live
URL:https://research.uncg.edu/event/rethinking-how-we-talk-about-and-work-with-a-i/
LOCATION:School of Education Building\, 1300 Spring Garden St\, Greensboro\, NC\, 27412\, United States
CATEGORIES:Ashby Dialogue Series,CAS,Rethinking the Algorithm
ATTACH;FMTTYPE=image/jpeg:https://research.uncg.edu/wp-content/uploads/2026/03/ai-representation-scaled-VFfa2f.jpg
END:VEVENT
BEGIN:VEVENT
DTSTART;TZID=America/New_York:20260223T120000
DTEND;TZID=America/New_York:20260223T131500
DTSTAMP:20260419T204418
CREATED:20260204T184542Z
LAST-MODIFIED:20260204T212908Z
UID:10000944-1771848000-1771852500@research.uncg.edu
SUMMARY:Workshop: Constructive Speech in Contentious Times
DESCRIPTION:The Polarization & Extremism Research & Innovation Lab (PERIL) presents:Constructive Speech in Contentious Times
URL:https://research.uncg.edu/event/workshop-constructive-speech-in-contentious-times/
LOCATION:School of Education Building\, 1300 Spring Garden St\, Greensboro\, NC\, 27412\, United States
CATEGORIES:Humanities Network and Consortium
ATTACH;FMTTYPE=image/jpeg:https://research.uncg.edu/wp-content/uploads/2026/02/HNAC.jpg
ORGANIZER;CN="UNCG Humanities Network and Consortium":MAILTO:hnac@uncg.edu
END:VEVENT
BEGIN:VEVENT
DTSTART;TZID=America/New_York:20250328T090000
DTEND;TZID=America/New_York:20250328T121500
DTSTAMP:20260419T204418
CREATED:20250319T160408Z
LAST-MODIFIED:20250319T160410Z
UID:10000849-1743152400-1743164100@research.uncg.edu
SUMMARY:Kendon Smith Lecture Series
DESCRIPTION:The Department of Psychology’s annual Kendon Smith Lecture Series will be held in the School of Education Building Room 114 on March 27\, 2025 from 1:30 – 4:30 p.m. and School of Education Building Room 120 on March 28\, 2025 from 9 a.m. – 12:15 p.m. \n\n\n\nThe theme of this year’s series is “Language\, Cognition\, and the Brain: Diverse Perspectives on Communication.” \n\n\n\nWe have a very exciting slate of speakers: \n\n\n\n\nHelen Tager-Flusberg (Boston University) will present “Explorations of Language in Autism”\n\n\n\nKaren Emmorey (SDSU) will present “The Unique Behavioral and Neural Profile of Skilled Deaf Readers Reveals the Plasticity of the Reading System”\n\n\n\nRandi Martin (Rice) will present “Domain-specific Working Memory and Relation to Language Processing”\n\n\n\nGary Dell (UIUC) will present “The Adaptable Speaker: A Theory of Implicit Learning in Language Production”\n\n\n\nThe series will conclude with a discussion panel with all four speakers.\n\n\n\n\nThis event is open to the public. Learn more about the Kendon Smith Lecture Series.
URL:https://cas.uncg.edu/event/kendon-smith-lecture-series/#new_tab
LOCATION:School of Education Building\, 1300 Spring Garden St\, Greensboro\, NC\, 27412\, United States
ORGANIZER;CN="Psychology Department":MAILTO:psychology@uncg.edu
END:VEVENT
BEGIN:VEVENT
DTSTART;TZID=America/New_York:20250327T183000
DTEND;TZID=America/New_York:20250327T210000
DTSTAMP:20260419T204418
CREATED:20250306T195514Z
LAST-MODIFIED:20250306T195517Z
UID:10000826-1743100200-1743109200@research.uncg.edu
SUMMARY:Come and See Film Screening
DESCRIPTION:Experience one of the greatest anti-war films of all time at the UNCG International Human Rights Film Series screening of Come and See (Idi i smotri\, 1985). Blending surrealism and hyper-realism\, this powerful Soviet film portrays the brutal realities of Nazi atrocities in Belarus during WWII. Film historian Samm Deighan\, author of The Legacy of World War II in European Arthouse Cinema\, will introduce the film and lead a post-screening discussion.
URL:https://research.uncg.edu/event/come-and-see-film-screening/
LOCATION:School of Education Building\, 1300 Spring Garden St\, Greensboro\, NC\, 27412\, United States
ATTACH;FMTTYPE=image/jpeg:https://research.uncg.edu/wp-content/uploads/2023/02/schoolofeducationbldg-scaled.jpg
END:VEVENT
BEGIN:VEVENT
DTSTART;TZID=America/New_York:20250327T133000
DTEND;TZID=America/New_York:20250327T163000
DTSTAMP:20260419T204418
CREATED:20250319T160408Z
LAST-MODIFIED:20250319T160410Z
UID:10000848-1743082200-1743093000@research.uncg.edu
SUMMARY:Kendon Smith Lecture Series
DESCRIPTION:The Department of Psychology’s annual Kendon Smith Lecture Series will be held in the School of Education Building Room 114 on March 27\, 2025 from 1:30 – 4:30 p.m. and School of Education Building Room 120 on March 28\, 2025 from 9 a.m. – 12:15 p.m. \n\n\n\nThe theme of this year’s series is “Language\, Cognition\, and the Brain: Diverse Perspectives on Communication.” \n\n\n\nWe have a very exciting slate of speakers: \n\n\n\n\nHelen Tager-Flusberg (Boston University) will present “Explorations of Language in Autism”\n\n\n\nKaren Emmorey (SDSU) will present “The Unique Behavioral and Neural Profile of Skilled Deaf Readers Reveals the Plasticity of the Reading System”\n\n\n\nRandi Martin (Rice) will present “Domain-specific Working Memory and Relation to Language Processing”\n\n\n\nGary Dell (UIUC) will present “The Adaptable Speaker: A Theory of Implicit Learning in Language Production”\n\n\n\nThe series will conclude with a discussion panel with all four speakers.\n\n\n\n\nThis event is open to the public. Learn more about the Kendon Smith Lecture Series.
URL:https://cas.uncg.edu/event/kendon-smith-lecture-series/#new_tab
LOCATION:School of Education Building\, 1300 Spring Garden St\, Greensboro\, NC\, 27412\, United States
ORGANIZER;CN="Psychology Department":MAILTO:psychology@uncg.edu
END:VEVENT
END:VCALENDAR