BEGIN:VCALENDAR
VERSION:2.0
PRODID:-//Research And Engagement - ECPv6.15.20//NONSGML v1.0//EN
CALSCALE:GREGORIAN
METHOD:PUBLISH
X-WR-CALNAME:Research And Engagement
X-ORIGINAL-URL:https://research.uncg.edu
X-WR-CALDESC:Events for Research And Engagement
REFRESH-INTERVAL;VALUE=DURATION:PT1H
X-Robots-Tag:noindex
X-PUBLISHED-TTL:PT1H
BEGIN:VTIMEZONE
TZID:America/New_York
BEGIN:DAYLIGHT
TZOFFSETFROM:-0500
TZOFFSETTO:-0400
TZNAME:EDT
DTSTART:20220313T070000
END:DAYLIGHT
BEGIN:STANDARD
TZOFFSETFROM:-0400
TZOFFSETTO:-0500
TZNAME:EST
DTSTART:20221106T060000
END:STANDARD
BEGIN:DAYLIGHT
TZOFFSETFROM:-0500
TZOFFSETTO:-0400
TZNAME:EDT
DTSTART:20230312T070000
END:DAYLIGHT
BEGIN:STANDARD
TZOFFSETFROM:-0400
TZOFFSETTO:-0500
TZNAME:EST
DTSTART:20231105T060000
END:STANDARD
BEGIN:DAYLIGHT
TZOFFSETFROM:-0500
TZOFFSETTO:-0400
TZNAME:EDT
DTSTART:20240310T070000
END:DAYLIGHT
BEGIN:STANDARD
TZOFFSETFROM:-0400
TZOFFSETTO:-0500
TZNAME:EST
DTSTART:20241103T060000
END:STANDARD
BEGIN:DAYLIGHT
TZOFFSETFROM:-0500
TZOFFSETTO:-0400
TZNAME:EDT
DTSTART:20250309T070000
END:DAYLIGHT
BEGIN:STANDARD
TZOFFSETFROM:-0400
TZOFFSETTO:-0500
TZNAME:EST
DTSTART:20251102T060000
END:STANDARD
END:VTIMEZONE
BEGIN:VEVENT
DTSTART;TZID=America/New_York:20240930T170000
DTEND;TZID=America/New_York:20240930T183000
DTSTAMP:20260419T102718
CREATED:20240926T204531Z
LAST-MODIFIED:20240926T204859Z
UID:10000399-1727715600-1727721000@research.uncg.edu
SUMMARY:2024 NSF Graduate Research Fellowship Program
DESCRIPTION:Two dates – attend one or the other. \nAll seniors applying to graduate school next year as well as\nfirst-year graduate students currently at UNCG who are U.S\ncitizens or permanent citizens\, are eligible and invited to\nattend. The workshop will provide tips for strengthening your\napplication. \n﻿\nYour browser does not support iframes. Please download the PDF using the link below.﻿
URL:https://research.uncg.edu/event/2024-nsf-graduate-research-fellowship-program/2024-09-30/
LOCATION:Virtual
ATTACH;FMTTYPE=image/png:https://research.uncg.edu/wp-content/uploads/2024/09/NSF_GRFP.png
END:VEVENT
BEGIN:VEVENT
DTSTART;TZID=America/New_York:20240924T100000
DTEND;TZID=America/New_York:20240924T110000
DTSTAMP:20260419T102718
CREATED:20240903T171148Z
LAST-MODIFIED:20240910T153952Z
UID:10000370-1727172000-1727175600@research.uncg.edu
SUMMARY:Research Administrators Network (RAN) Meeting
DESCRIPTION:The Office of Sponsored Programs (OSP) holds a monthly meeting called the Research Administrators Network (RAN). All research administration faculty and staff attend this meeting in which we discuss University and policy changes\, internal processes and procedures\, sponsor guidelines regarding proposal applications\, and award terms and conditions. The meeting agenda changes each month based on what is happening internally and externally with our sponsors. All faculty and staff are allowed to submit questions and agenda items. The meeting allows both OSP and the Office of Contacts and Grant Accounting (CGA) to provide regular updates and training to faculty and staff\, ensuring we are all on the same page. Research Administrators can use this forum to network and build relationships that will support their development and growth in research administration. OSP disseminates all information shared during this meeting in writing to participants\, so they have the information they need to complete their work. The meetings also help to facilitate a more team-oriented environment where we can work together to solve problems\, create procedures\, and gain a better understanding and appreciation for the people we work with whose work overlaps and intersects with ours. \nThe RAN “Lunch and Learn” Series: We encourage all staff who have attended a training or conference to volunteer to present a topic session to RAN. We call this the RAN “Lunch and Learn Series.” Sessions occur during the summer months of June and July. We typically hold four sessions on different research administration topics\, two per month.
URL:https://research.uncg.edu/event/research-administrators-network-ran-meeting/2024-09-24/
LOCATION:Virtual
ATTACH;FMTTYPE=image/jpeg:https://research.uncg.edu/wp-content/uploads/2016/08/mhra.jpg
ORGANIZER;CN="Sponsored Programs":MAILTO:research@uncg.edu
END:VEVENT
BEGIN:VEVENT
DTSTART;TZID=America/New_York:20231003T120000
DTEND;TZID=America/New_York:20231003T133000
DTSTAMP:20260419T102718
CREATED:20230911T171636Z
LAST-MODIFIED:20231003T140917Z
UID:10000053-1696334400-1696339800@research.uncg.edu
SUMMARY:Lunch: Arts on Prescription for Older Adults
DESCRIPTION:Join us virtually on Microsoft Teams \n(Teams meeting link at the end of this email invitation) \nRSVP here by Friday September 29\, 2023 \nFeaturing: Sudha Shreeniwas\, PhD.\, Human and Development Studies\nArts on Prescription for Older Adults: In this presentation\, Dr. Shreeniwas will discuss their onging research project focus on the use of prescripting arts participation for older adults connection to health care. \n————————————— \nMicrosoft Teams Meeting Information \nJoin on your computer\, mobile app or room device\nClick here to join the meeting \n\nMeeting ID: 249 834 460 436Passcode: 4eeuxF \nDownload Teams | Join on the web\n\nOr call in (audio only)\n+1 336-790-7381\,\,487660954#   United States\, Greensboro\nPhone Conference ID: 487 660 954# \nFind a local number | Reset PIN \nLearn More | Meeting options \n 
URL:https://research.uncg.edu/event/lunch-n-learn-arts-on-prescription-for-older-adults/
LOCATION:Virtual
END:VEVENT
END:VCALENDAR